BEGIN:VCALENDAR
VERSION:2.0
PRODID:-//eventon.com NONSGML v1.0//EN
CALSCALE:GREGORIAN
METHOD:PUBLISH
BEGIN:VEVENT
UID:69eb2b08477b7
DTSTAMP:20260424T083416Z
DTSTART:20220319T150000Z
DTEND:20220319T160000Z
LOCATION:https://meet.google.com/zbi-cczk-nvm
SUMMARY:GRRNT VIRTUAL MEET & GREET (Copy)
DESCRIPTION:In order for GRRNT to continue finding forever homes for our do
 gs while adhering to the current health and safety guidelines\,  we will be
  conducting virtual meet and greets for our current approved adopters. What
 : Virtual Meet &amp; Greet Where: Google Meet: CLICK THIS LINK — https://
 meet.google.com/zbi-cczk-nvm (if joining from[..]\nhttps://www.goldenretrie
 vers.org/events/grrnt-virtual-meet-greet-copy-4/var/event_access
URL:https://www.goldenretrievers.org/events/grrnt-virtual-meet-greet-copy-4/var/event_access
END:VEVENT
END:VCALENDAR